BEGIN:VCALENDAR
VERSION:2.0
PRODID:-//ACLA - ECPv6.15.18//NONSGML v1.0//EN
CALSCALE:GREGORIAN
METHOD:PUBLISH
X-WR-CALNAME:ACLA
X-ORIGINAL-URL:https://ac-la.org
X-WR-CALDESC:Events for ACLA
REFRESH-INTERVAL;VALUE=DURATION:PT1H
X-Robots-Tag:noindex
X-PUBLISHED-TTL:PT1H
BEGIN:VTIMEZONE
TZID:UTC
BEGIN:STANDARD
TZOFFSETFROM:+0000
TZOFFSETTO:+0000
TZNAME:UTC
DTSTART:20230101T000000
END:STANDARD
END:VTIMEZONE
BEGIN:VEVENT
DTSTART;TZID=UTC:20250618T173000
DTEND;TZID=UTC:20250618T193000
DTSTAMP:20260422T215102
CREATED:20250618T192711Z
LAST-MODIFIED:20250324T193510Z
UID:5570-1750267800-1750275000@ac-la.org
SUMMARY:ACLA Monthly Board Meeting
DESCRIPTION:Join us to learn more about ACLA. \nRequest the access link by emailing andrea@acl-la.org.
URL:https://ac-la.org/event/acla-monthly-board-meeting-11/
END:VEVENT
BEGIN:VEVENT
DTSTART;TZID=UTC:20250610T080000
DTEND;TZID=UTC:20250610T170000
DTSTAMP:20260422T215102
CREATED:20250324T194601Z
LAST-MODIFIED:20250324T194601Z
UID:5591-1749542400-1749574800@ac-la.org
SUMMARY:Community Engagement Monthly Committee Meeting
DESCRIPTION:Join us to learn more about our Committee. \nRequest the access link by emailing andrea@acl-la.org.
URL:https://ac-la.org/event/community-engagement-monthly-committee-meeting-8/
END:VEVENT
BEGIN:VEVENT
DTSTART;TZID=UTC:20250604T180000
DTEND;TZID=UTC:20250604T190000
DTSTAMP:20260422T215102
CREATED:20250324T190626Z
LAST-MODIFIED:20250324T190626Z
UID:5553-1749060000-1749063600@ac-la.org
SUMMARY:K-12 Monthly Committee Meeting
DESCRIPTION:Join us to learn more about our Committee. \nRequest the access link by emailing andrea@acl-la.org.
URL:https://ac-la.org/event/k-12-monthly-committee-meeting-11/
END:VEVENT
BEGIN:VEVENT
DTSTART;TZID=UTC:20250521T173000
DTEND;TZID=UTC:20250521T193000
DTSTAMP:20260422T215102
CREATED:20250324T193631Z
LAST-MODIFIED:20250324T193631Z
UID:5577-1747848600-1747855800@ac-la.org
SUMMARY:ACLA Monthly Board Meeting
DESCRIPTION:Join us to learn more about ACLA. \nRequest the access link by emailing andrea@acl-la.org.
URL:https://ac-la.org/event/acla-monthly-board-meeting-13/
END:VEVENT
BEGIN:VEVENT
DTSTART;TZID=UTC:20250515T170000
DTEND;TZID=UTC:20250515T193000
DTSTAMP:20260422T215102
CREATED:20250416T235738Z
LAST-MODIFIED:20250416T235738Z
UID:5897-1747328400-1747337400@ac-la.org
SUMMARY:Inside Architecture: A Design Journal
DESCRIPTION:Join us for a book signing and reading of Scott Johnson’s newest book\, Inside Architecture: A Design Journal. \nScott’s ninth book is a personal memoir of his life-long path through the ever-changing domain that is architecture. Publisher Ann Gray will join Scott for a brief discussion about the new book and his journey as a multi-disciplinary artist. \nInside Architecture: A Design Journal offers the opportunity for young professionals to look forward to their potential and seasoned professionals to step back and reflect on the unique combination of planning and serendipity that is cultivated within the design world. All proceeds from book sales will be donated to Architecture for Communities\, Los Angeles (ACLA).
URL:https://ac-la.org/event/inside-architecture-a-design-journal/
LOCATION:AIA|LA & ACLA Center for Communitites\, 4450 West Adams Blvd\, Los Angeles\, CA\, 90016\, United States
ATTACH;FMTTYPE=image/png:https://ac-la.org/wp-content/uploads/2025/04/Untitled-600-x-300-px-415-x-300-px.png
END:VEVENT
BEGIN:VEVENT
DTSTART;TZID=UTC:20250513T080000
DTEND;TZID=UTC:20250513T170000
DTSTAMP:20260422T215102
CREATED:20250324T194522Z
LAST-MODIFIED:20250324T194522Z
UID:5589-1747123200-1747155600@ac-la.org
SUMMARY:Community Engagement Monthly Committee Meeting
DESCRIPTION:Join us to learn more about our Committee. \nRequest the access link by emailing andrea@acl-la.org.
URL:https://ac-la.org/event/community-engagement-monthly-committee-meeting-7/
END:VEVENT
BEGIN:VEVENT
DTSTART;TZID=UTC:20250425T180000
DTEND;TZID=UTC:20250425T200000
DTSTAMP:20260422T215102
CREATED:20250415T200051Z
LAST-MODIFIED:20250415T200644Z
UID:5859-1745604000-1745611200@ac-la.org
SUMMARY:CELEBRATE THE HEART OF LA
DESCRIPTION:FORT LA challenged architects and designers to reimagine LA’s architectural treasures lost to the 2025 wildfires. Join us at a fundraiser to see a selection of the most compelling competition entries and witness the announcement of this year’s winners.
URL:https://ac-la.org/event/celebrate-the-heart-of-la/
ATTACH;FMTTYPE=image/jpeg:https://ac-la.org/wp-content/uploads/2025/04/image.jpeg
END:VEVENT
BEGIN:VEVENT
DTSTART;TZID=UTC:20250416T173000
DTEND;TZID=UTC:20250416T193000
DTSTAMP:20260422T215102
CREATED:20250324T192619Z
LAST-MODIFIED:20250324T192619Z
UID:5567-1744824600-1744831800@ac-la.org
SUMMARY:ACLA Monthly Board Meeting
DESCRIPTION:Join us to learn more about ACLA. \nRequest the access link by emailing andrea@acl-la.org.
URL:https://ac-la.org/event/acla-monthly-board-meeting-9/
END:VEVENT
BEGIN:VEVENT
DTSTART;TZID=UTC:20250408T080000
DTEND;TZID=UTC:20250408T170000
DTSTAMP:20260422T215102
CREATED:20250324T194444Z
LAST-MODIFIED:20250324T194444Z
UID:5587-1744099200-1744131600@ac-la.org
SUMMARY:Community Engagement Monthly Committee Meeting
DESCRIPTION:Join us to learn more about our Committee. \nRequest the access link by emailing andrea@acl-la.org.
URL:https://ac-la.org/event/community-engagement-monthly-committee-meeting-6/
END:VEVENT
BEGIN:VEVENT
DTSTART;TZID=UTC:20250402T180000
DTEND;TZID=UTC:20250402T190000
DTSTAMP:20260422T215102
CREATED:20250324T190530Z
LAST-MODIFIED:20250324T190530Z
UID:5551-1743616800-1743620400@ac-la.org
SUMMARY:K-12 Monthly Committee Meeting
DESCRIPTION:Join us to learn more about our Committee. \nRequest the access link by emailing andrea@acl-la.org.
URL:https://ac-la.org/event/k-12-monthly-committee-meeting-10/
END:VEVENT
BEGIN:VEVENT
DTSTART;TZID=UTC:20250326T173000
DTEND;TZID=UTC:20250326T193000
DTSTAMP:20260422T215102
CREATED:20250213T145043Z
LAST-MODIFIED:20250324T192551Z
UID:5142-1743010200-1743017400@ac-la.org
SUMMARY:ACLA Monthly Board Meeting
DESCRIPTION:Join us to learn more about ACLA. \nRequest the access link by emailing andrea@acl-la.org.
URL:https://ac-la.org/event/acla-april-board-meeting/
END:VEVENT
BEGIN:VEVENT
DTSTART;TZID=UTC:20250319T173000
DTEND;TZID=UTC:20250319T193000
DTSTAMP:20260422T215102
CREATED:20250213T143220Z
LAST-MODIFIED:20250213T144754Z
UID:5137-1742405400-1742412600@ac-la.org
SUMMARY:ACLA March Board Meeting
DESCRIPTION:Join us to learn more about ACLA. \nRequest the access link by emailing andrea@acl-la.org.
URL:https://ac-la.org/event/acla-monthly-board-meeting-copy/
END:VEVENT
BEGIN:VEVENT
DTSTART;TZID=UTC:20250319T173000
DTEND;TZID=UTC:20250319T193000
DTSTAMP:20260422T215102
CREATED:20240321T152108Z
LAST-MODIFIED:20250213T150828Z
UID:2702-1742405400-1742412600@ac-la.org
SUMMARY:K-12 Monthly Committee Meeting
DESCRIPTION:Join us to learn more about our Committee. \nRequest the access link by emailing andrea@acl-la.org.
URL:https://ac-la.org/event/k-12-monthly-committee-meeting-7/
END:VEVENT
BEGIN:VEVENT
DTSTART;TZID=UTC:20250215T090000
DTEND;TZID=UTC:20250215T153000
DTSTAMP:20260422T215102
CREATED:20250213T142135Z
LAST-MODIFIED:20250213T142203Z
UID:5134-1739610000-1739633400@ac-la.org
SUMMARY:Transform LA
DESCRIPTION:Transform LA invites high school students in grades 10-12 to join us for an exciting day of exploring sustainable architecture and environmental justice. Discover how architects are leading the way in solving climate challenges and how YOU can be part of that change.\nThis hands-on program offers a unique opportunity to dive into the world of eco-friendly design. You’ll work in small teams\, using real design tools to create models and tackle real-world sustainability challenges.\nSpace is limited to 20-30 participants\, so don’t miss out on this chance to collaborate with other passionate students and develop skills that can shape the future of our planet!
URL:https://ac-la.org/event/transform-la/
LOCATION:AIA|LA & ACLA Center for Communitites\, 4450 West Adams Blvd\, Los Angeles\, CA\, 90016\, United States
ATTACH;FMTTYPE=image/png:https://ac-la.org/wp-content/uploads/2024/12/Transform-LA-594-x-594-px-1.png
ORGANIZER;CN="K-12 Committee":MAILTO:andrea@ac-la.org
END:VEVENT
BEGIN:VEVENT
DTSTART;TZID=UTC:20241210T080000
DTEND;TZID=UTC:20241210T170000
DTSTAMP:20260422T215102
CREATED:20240321T162311Z
LAST-MODIFIED:20240321T163331Z
UID:2712-1733817600-1733850000@ac-la.org
SUMMARY:Community Engagement Monthly Committee Meeting
DESCRIPTION:Join us to learn more about our Committee. \nRequest the access link by emailing andrea@acl-la.org.
URL:https://ac-la.org/event/community-engagement-monthly-committee-meeting-5/
END:VEVENT
BEGIN:VEVENT
DTSTART;TZID=UTC:20241113T080000
DTEND;TZID=UTC:20241113T170000
DTSTAMP:20260422T215102
CREATED:20240321T155742Z
LAST-MODIFIED:20240321T160136Z
UID:2708-1731484800-1731517200@ac-la.org
SUMMARY:ACLA Monthly Board Meeting
DESCRIPTION:Join us to learn more about ACLA. \nRequest the access link by emailing andrea@acl-la.org.
URL:https://ac-la.org/event/acla-monthly-board-meeting-10/
END:VEVENT
BEGIN:VEVENT
DTSTART;TZID=UTC:20241112T170000
DTEND;TZID=UTC:20241112T180000
DTSTAMP:20260422T215102
CREATED:20240321T152222Z
LAST-MODIFIED:20240321T152548Z
UID:2704-1731430800-1731434400@ac-la.org
SUMMARY:Community Engagement Monthly Committee Meeting
DESCRIPTION:Join us to learn more about our Committee. \nRequest the access link by emailing andrea@acl-la.org.
URL:https://ac-la.org/event/community-engagement-monthly-committee-meeting-4/
END:VEVENT
BEGIN:VEVENT
DTSTART;TZID=UTC:20241016T173000
DTEND;TZID=UTC:20241016T193000
DTSTAMP:20260422T215102
CREATED:20240321T151855Z
LAST-MODIFIED:20240321T151945Z
UID:2700-1729099800-1729107000@ac-la.org
SUMMARY:ACLA Monthly Board Meeting
DESCRIPTION:Join us to learn more about ACLA. \nRequest the access link by emailing andrea@acl-la.org.
URL:https://ac-la.org/event/acla-monthly-board-meeting-8/
END:VEVENT
BEGIN:VEVENT
DTSTART;TZID=UTC:20241008T170000
DTEND;TZID=UTC:20241008T180000
DTSTAMP:20260422T215102
CREATED:20240321T151430Z
LAST-MODIFIED:20240321T160246Z
UID:2698-1728406800-1728410400@ac-la.org
SUMMARY:Community Engagement Monthly Committee Meeting
DESCRIPTION:Join us to learn more about our Committee. \nRequest the access link by emailing andrea@acl-la.org.
URL:https://ac-la.org/event/community-engagement-monthly-committee-meeting-3/
END:VEVENT
BEGIN:VEVENT
DTSTART;TZID=UTC:20240926T183000
DTEND;TZID=UTC:20240926T213000
DTSTAMP:20260422T215102
CREATED:20240821T011320Z
LAST-MODIFIED:20240926T161230Z
UID:3814-1727375400-1727386200@ac-la.org
SUMMARY:Inside Out - Exhibition and Film Screening with Panel Conversation
DESCRIPTION:The Inside Out project was a 3-year Interior Design studio sponsored by the Angelo Donghia Foundation supporting small\, independently owned Los Angeles businesses. Identifying and celebrating the unique characteristics and personalities of the interiors of these businesses\, the spaces are turned INSIDE OUT\, onto the street\, creating new and inspiring outdoor spaces and activating a revolutionary post-covid urban experience. The project was created by Lara Hoad AIA and Todd Erlandson AIA\, architects and faculty members at Woodbury University’s School of Architecture and focused on three diverse neighborhoods from 2021-2023. The final year included a collaboration with LADOT based on outcomes from the student’s projects working with restaurants in the West Adams neighborhood\, creatively interpreting the LA Al Fresco permanent program guidelines defined by the Los Angeles Department of Transportation. \n  \n 
URL:https://ac-la.org/event/inside-out-exhibition-and-film-screening-with-panel-conversation/
ATTACH;FMTTYPE=image/png:https://ac-la.org/wp-content/uploads/2024/08/Inside_Out_Invite_R2.png
END:VEVENT
BEGIN:VEVENT
DTSTART;TZID=UTC:20240918T173000
DTEND;TZID=UTC:20240918T193000
DTSTAMP:20260422T215102
CREATED:20240321T151221Z
LAST-MODIFIED:20240321T151221Z
UID:2694-1726680600-1726687800@ac-la.org
SUMMARY:ACLA Monthly Board Meeting
DESCRIPTION:Join us to learn more about ACLA. \nRequest the access link by emailing andrea@acl-la.org.
URL:https://ac-la.org/event/acla-monthly-board-meeting-7/
END:VEVENT
BEGIN:VEVENT
DTSTART;TZID=UTC:20240910T170000
DTEND;TZID=UTC:20240910T180000
DTSTAMP:20260422T215102
CREATED:20240321T125911Z
LAST-MODIFIED:20240321T125911Z
UID:2688-1725987600-1725991200@ac-la.org
SUMMARY:Community Engagement Monthly Committee Meeting
DESCRIPTION:Join us to learn more about our Committee. \nRequest the access link by emailing andrea@acl-la.org.
URL:https://ac-la.org/event/community-engagement-monthly-committee-meeting-2/
END:VEVENT
BEGIN:VEVENT
DTSTART;TZID=UTC:20240821T173000
DTEND;TZID=UTC:20240821T193000
DTSTAMP:20260422T215102
CREATED:20240321T125217Z
LAST-MODIFIED:20240321T125244Z
UID:2684-1724261400-1724268600@ac-la.org
SUMMARY:ACLA Monthly Board Meeting
DESCRIPTION:Join us to learn more about our Committee. \nRequest the access link by emailing andrea@acl-la.org.
URL:https://ac-la.org/event/acla-monthly-board-meeting-5/
END:VEVENT
BEGIN:VEVENT
DTSTART;TZID=UTC:20240717T173000
DTEND;TZID=UTC:20240717T193000
DTSTAMP:20260422T215102
CREATED:20240321T124627Z
LAST-MODIFIED:20240321T124627Z
UID:2674-1721237400-1721244600@ac-la.org
SUMMARY:ACLA Monthly Board Meeting
DESCRIPTION:Join us to learn more about our Committee. \nRequest the access link by emailing andrea@acl-la.org.
URL:https://ac-la.org/event/acla-monthly-board-meeting-4/
END:VEVENT
BEGIN:VEVENT
DTSTART;TZID=UTC:20240713T170000
DTEND;TZID=UTC:20240713T180000
DTSTAMP:20260422T215102
CREATED:20240321T125017Z
LAST-MODIFIED:20240321T125017Z
UID:2682-1720890000-1720893600@ac-la.org
SUMMARY:Community Engagement Monthly Committee Meeting
DESCRIPTION:Join us to learn more about our Committee. \nRequest the access link by emailing andrea@acl-la.org.
URL:https://ac-la.org/event/community-engagement-monthly-committee-meeting/
END:VEVENT
BEGIN:VEVENT
DTSTART;TZID=UTC:20240709T170000
DTEND;TZID=UTC:20240709T180000
DTSTAMP:20260422T215102
CREATED:20240321T124126Z
LAST-MODIFIED:20240321T124141Z
UID:2670-1720544400-1720548000@ac-la.org
SUMMARY:Community Engagement Monthly Committee Meeting
DESCRIPTION:Join us to learn more about our Committee. \nRequest the access link by emailing andrea@acl-la.org.
URL:https://ac-la.org/event/c/
END:VEVENT
BEGIN:VEVENT
DTSTART;TZID=UTC:20240618T173000
DTEND;TZID=UTC:20240618T193000
DTSTAMP:20260422T215102
CREATED:20240321T123511Z
LAST-MODIFIED:20240611T210742Z
UID:2666-1718731800-1718739000@ac-la.org
SUMMARY:ACLA Monthly Board Meeting
DESCRIPTION:Join us to learn more about our Committee. \nRequest the access link by emailing andrea@acl-la.org.
URL:https://ac-la.org/event/acla-monthly-board-meeting-3/
END:VEVENT
BEGIN:VEVENT
DTSTART;TZID=UTC:20240515T173000
DTEND;TZID=UTC:20240515T193000
DTSTAMP:20260422T215102
CREATED:20240321T122319Z
LAST-MODIFIED:20240321T122319Z
UID:2661-1715794200-1715801400@ac-la.org
SUMMARY:ACLA Monthly Board Meeting
DESCRIPTION:Join us to learn more about ACLA. \nRequest the access link by emailing andrea@ac-la.org
URL:https://ac-la.org/event/acla-monthly-board-meeting-2/
END:VEVENT
BEGIN:VEVENT
DTSTART;TZID=UTC:20240514T170000
DTEND;TZID=UTC:20240514T180000
DTSTAMP:20260422T215102
CREATED:20240321T122115Z
LAST-MODIFIED:20240321T123959Z
UID:2659-1715706000-1715709600@ac-la.org
SUMMARY:Community Engagement Monthly Committee Meeting
DESCRIPTION:Join us to learn more about our Committee. \nRequest the access link by emailing andrea@ac-la.org
URL:https://ac-la.org/event/community-engagement-committee/
END:VEVENT
BEGIN:VEVENT
DTSTART;TZID=UTC:20240502T180000
DTEND;TZID=UTC:20240502T180000
DTSTAMP:20260422T215102
CREATED:20231027T145331Z
LAST-MODIFIED:20240320T193939Z
UID:1592-1714672800-1714672800@ac-la.org
SUMMARY:2x8 20th Anniversary Celebration & Award Ceremony
DESCRIPTION:ACLA & AIA Los Angeles are proud to present  2x8x20\, the 20th Anniversary of the 2×8 Exhibition! \nLocated at AIA|LA + ACLA Center for Communities \n4450 West Adams Blvd.\, Los Angeles\, CA 90016 \nJoin us in celebrating the 20th anniversary of the 2×8 Student Exhibition\, Competition\, and Scholarship Fund. This year’s exhibition will feature 20 unique architecture and design programs throughout California. 2×8 was formed to introduce student work to the Architecture\, Engineering\, and Construction industries. To celebrate the academic diversity within California\, 2×8 invites a broad range of programs from across the state to participate and presents students with an opportunity to receive scholarships at our annual awards ceremony. The opening reception is free to attend and open to all. This year\, the exhibition theme\, “Reflection”\, celebrates the program’s 20th anniversary and looks back on the accumulation of amazing student projects and exhibition designs. \nIn 2021\, we were able to raise a total of $30\,000 in scholarships. This allowed us to award merit-based scholarships to 11 winning student projects. For our 20th anniversary\, we would like to surpass that amount and reach our goal of $50\,000. As in past years\, a respected jury will evaluate the submitted student projects. \nEach year the student competition is given a unique name and theme\, and we encourage the schools to choose work that represents that theme. With the curatorial theme of the upcoming 2×8 Student Exhibition\, we intend to create a dialogue around the topic of “Neighborhoods” with projects that respond to and engage with its surrounding environment and community. Celebrating the state’s unequaled diversity in pedagogical directions\, each of the participating academic programs selects two projects that epitomize their respective core visions around this theme. Visit 2×8.org to see a preview of the student projects. \nWe are excited for this year’s exhibition and opening ceremony to be hosted at the new AIA|LA + ACLA Center for Communities located in the historic West Adams District. The new headquarters will be a center for conferences\, meetings\, and exhibitions accessible to the Architecture\, Engineering\, Construction\, and local community.
URL:https://ac-la.org/event/2x8-20th-anniversary-celebration-award-ceremony/
LOCATION:AIA|LA & ACLA Center for Communitites\, 4450 West Adams Blvd\, Los Angeles\, CA\, 90016\, United States
ORGANIZER;CN="2x8 Committee":MAILTO:andrea@ac-la.org
END:VEVENT
END:VCALENDAR