BEGIN:VCALENDAR
VERSION:2.0
PRODID:-//ACLA - ECPv6.15.18//NONSGML v1.0//EN
CALSCALE:GREGORIAN
METHOD:PUBLISH
X-WR-CALNAME:ACLA
X-ORIGINAL-URL:https://ac-la.org
X-WR-CALDESC:Events for ACLA
REFRESH-INTERVAL;VALUE=DURATION:PT1H
X-Robots-Tag:noindex
X-PUBLISHED-TTL:PT1H
BEGIN:VTIMEZONE
TZID:UTC
BEGIN:STANDARD
TZOFFSETFROM:+0000
TZOFFSETTO:+0000
TZNAME:UTC
DTSTART:20250101T000000
END:STANDARD
END:VTIMEZONE
BEGIN:VEVENT
DTSTART;TZID=UTC:20260501T090000
DTEND;TZID=UTC:20260501T140000
DTSTAMP:20260423T011609
CREATED:20250314T173752Z
LAST-MODIFIED:20260422T033524Z
UID:5442-1777626000-1777644000@ac-la.org
SUMMARY:DxD Day - Gin D. Wong
DESCRIPTION:Get ready for a day of creativity\, innovation\, and inspiration! \nThe DxD Block Party: Gin D. Wong Day is a FREE community event where architecture\, design\, engineering\, and construction meet hands-on fun! \nThis year’s event will be hosted by Santa Monica College – Center for Media & Design (1660 Stewart St\, Santa Monica\, CA 90404) on Friday\, May 1\, 2026\, from 9 am to 2 pm. \nDxD Day connects hundreds of students with local design and construction professionals. All elementary\, middle\, and high school students\, families\, educators\, professionals\, and community members interested in architecture\, design\, engineering\, and construction are welcome to attend.
URL:https://ac-la.org/event/dxd-day-cesar-pelli/
ORGANIZER;CN="K-12 Committee":MAILTO:andrea@ac-la.org
END:VEVENT
END:VCALENDAR