BEGIN:VCALENDAR
VERSION:2.0
PRODID:-//ACLA - ECPv6.15.18//NONSGML v1.0//EN
CALSCALE:GREGORIAN
METHOD:PUBLISH
X-ORIGINAL-URL:https://ac-la.org
X-WR-CALDESC:Events for ACLA
REFRESH-INTERVAL;VALUE=DURATION:PT1H
X-Robots-Tag:noindex
X-PUBLISHED-TTL:PT1H
BEGIN:VTIMEZONE
TZID:UTC
BEGIN:STANDARD
TZOFFSETFROM:+0000
TZOFFSETTO:+0000
TZNAME:UTC
DTSTART:20230101T000000
END:STANDARD
END:VTIMEZONE
BEGIN:VEVENT
DTSTART;TZID=UTC:20240910T170000
DTEND;TZID=UTC:20240910T180000
DTSTAMP:20260423T151744
CREATED:20240321T125911Z
LAST-MODIFIED:20240321T125911Z
UID:2688-1725987600-1725991200@ac-la.org
SUMMARY:Community Engagement Monthly Committee Meeting
DESCRIPTION:Join us to learn more about our Committee. \nRequest the access link by emailing andrea@acl-la.org.
URL:https://ac-la.org/event/community-engagement-monthly-committee-meeting-2/
END:VEVENT
BEGIN:VEVENT
DTSTART;TZID=UTC:20240918T173000
DTEND;TZID=UTC:20240918T193000
DTSTAMP:20260423T151744
CREATED:20240321T151221Z
LAST-MODIFIED:20240321T151221Z
UID:2694-1726680600-1726687800@ac-la.org
SUMMARY:ACLA Monthly Board Meeting
DESCRIPTION:Join us to learn more about ACLA. \nRequest the access link by emailing andrea@acl-la.org.
URL:https://ac-la.org/event/acla-monthly-board-meeting-7/
END:VEVENT
BEGIN:VEVENT
DTSTART;TZID=UTC:20240926T183000
DTEND;TZID=UTC:20240926T213000
DTSTAMP:20260423T151744
CREATED:20240821T011320Z
LAST-MODIFIED:20240926T161230Z
UID:3814-1727375400-1727386200@ac-la.org
SUMMARY:Inside Out - Exhibition and Film Screening with Panel Conversation
DESCRIPTION:The Inside Out project was a 3-year Interior Design studio sponsored by the Angelo Donghia Foundation supporting small\, independently owned Los Angeles businesses. Identifying and celebrating the unique characteristics and personalities of the interiors of these businesses\, the spaces are turned INSIDE OUT\, onto the street\, creating new and inspiring outdoor spaces and activating a revolutionary post-covid urban experience. The project was created by Lara Hoad AIA and Todd Erlandson AIA\, architects and faculty members at Woodbury University’s School of Architecture and focused on three diverse neighborhoods from 2021-2023. The final year included a collaboration with LADOT based on outcomes from the student’s projects working with restaurants in the West Adams neighborhood\, creatively interpreting the LA Al Fresco permanent program guidelines defined by the Los Angeles Department of Transportation. \n  \n 
URL:https://ac-la.org/event/inside-out-exhibition-and-film-screening-with-panel-conversation/
ATTACH;FMTTYPE=image/png:https://ac-la.org/wp-content/uploads/2024/08/Inside_Out_Invite_R2.png
END:VEVENT
END:VCALENDAR