BEGIN:VCALENDAR
VERSION:2.0
PRODID:-//ACLA - ECPv6.15.18//NONSGML v1.0//EN
CALSCALE:GREGORIAN
METHOD:PUBLISH
X-WR-CALNAME:ACLA
X-ORIGINAL-URL:https://ac-la.org
X-WR-CALDESC:Events for ACLA
REFRESH-INTERVAL;VALUE=DURATION:PT1H
X-Robots-Tag:noindex
X-PUBLISHED-TTL:PT1H
BEGIN:VTIMEZONE
TZID:UTC
BEGIN:STANDARD
TZOFFSETFROM:+0000
TZOFFSETTO:+0000
TZNAME:UTC
DTSTART:20230101T000000
END:STANDARD
END:VTIMEZONE
BEGIN:VEVENT
DTSTART;TZID=UTC:20241008T170000
DTEND;TZID=UTC:20241008T180000
DTSTAMP:20260423T132725
CREATED:20240321T151430Z
LAST-MODIFIED:20240321T160246Z
UID:2698-1728406800-1728410400@ac-la.org
SUMMARY:Community Engagement Monthly Committee Meeting
DESCRIPTION:Join us to learn more about our Committee. \nRequest the access link by emailing andrea@acl-la.org.
URL:https://ac-la.org/event/community-engagement-monthly-committee-meeting-3/
END:VEVENT
BEGIN:VEVENT
DTSTART;TZID=UTC:20241016T173000
DTEND;TZID=UTC:20241016T193000
DTSTAMP:20260423T132725
CREATED:20240321T151855Z
LAST-MODIFIED:20240321T151945Z
UID:2700-1729099800-1729107000@ac-la.org
SUMMARY:ACLA Monthly Board Meeting
DESCRIPTION:Join us to learn more about ACLA. \nRequest the access link by emailing andrea@acl-la.org.
URL:https://ac-la.org/event/acla-monthly-board-meeting-8/
END:VEVENT
END:VCALENDAR