BEGIN:VCALENDAR
VERSION:2.0
PRODID:-//ACLA - ECPv6.15.18//NONSGML v1.0//EN
CALSCALE:GREGORIAN
METHOD:PUBLISH
X-WR-CALNAME:ACLA
X-ORIGINAL-URL:https://ac-la.org
X-WR-CALDESC:Events for ACLA
REFRESH-INTERVAL;VALUE=DURATION:PT1H
X-Robots-Tag:noindex
X-PUBLISHED-TTL:PT1H
BEGIN:VTIMEZONE
TZID:UTC
BEGIN:STANDARD
TZOFFSETFROM:+0000
TZOFFSETTO:+0000
TZNAME:UTC
DTSTART:20230101T000000
END:STANDARD
END:VTIMEZONE
BEGIN:VEVENT
DTSTART;TZID=UTC:20241112T170000
DTEND;TZID=UTC:20241112T180000
DTSTAMP:20260423T113320
CREATED:20240321T152222Z
LAST-MODIFIED:20240321T152548Z
UID:2704-1731430800-1731434400@ac-la.org
SUMMARY:Community Engagement Monthly Committee Meeting
DESCRIPTION:Join us to learn more about our Committee. \nRequest the access link by emailing andrea@acl-la.org.
URL:https://ac-la.org/event/community-engagement-monthly-committee-meeting-4/
END:VEVENT
BEGIN:VEVENT
DTSTART;TZID=UTC:20241113T080000
DTEND;TZID=UTC:20241113T170000
DTSTAMP:20260423T113320
CREATED:20240321T155742Z
LAST-MODIFIED:20240321T160136Z
UID:2708-1731484800-1731517200@ac-la.org
SUMMARY:ACLA Monthly Board Meeting
DESCRIPTION:Join us to learn more about ACLA. \nRequest the access link by emailing andrea@acl-la.org.
URL:https://ac-la.org/event/acla-monthly-board-meeting-10/
END:VEVENT
END:VCALENDAR