BEGIN:VCALENDAR
VERSION:2.0
PRODID:-//ACLA - ECPv6.15.18//NONSGML v1.0//EN
CALSCALE:GREGORIAN
METHOD:PUBLISH
X-ORIGINAL-URL:https://ac-la.org
X-WR-CALDESC:Events for ACLA
REFRESH-INTERVAL;VALUE=DURATION:PT1H
X-Robots-Tag:noindex
X-PUBLISHED-TTL:PT1H
BEGIN:VTIMEZONE
TZID:UTC
BEGIN:STANDARD
TZOFFSETFROM:+0000
TZOFFSETTO:+0000
TZNAME:UTC
DTSTART:20240101T000000
END:STANDARD
END:VTIMEZONE
BEGIN:VEVENT
DTSTART;TZID=UTC:20250101T090000
DTEND;TZID=UTC:20251231T170000
DTSTAMP:20260422T200541
CREATED:20250902T164430Z
LAST-MODIFIED:20250902T232813Z
UID:7708-1735722000-1767200400@ac-la.org
SUMMARY:Join CEC
DESCRIPTION:← Back Thank you for your response. ✨\n\n\n					\n						\n							\n							\n						\n						\n						\n						\n						\n							\n								\n									\n										\n										\n									\n									\n										\n										\n									\n								\n							\n						\n						\n							\n								\n									\n									\n										\n									\n									\n									\n								\n							\n						\n					\n				\n\n\n\nName(required)\n\n \n			\n				\n					\n						\n						\n						\n					\n				\n				\n			 \n	\n\n\nEmail(required)\n\n \n			\n				\n					\n						\n						\n						\n					\n				\n				\n			 \n	\n\n\nPhone\n\n \n			\n				\n					\n						\n						\n						\n					\n				\n				\n			 \n	\n\n\nAffiliation (name of firm\, school or organization)\n\n \n			\n				\n					\n						\n						\n						\n					\n				\n				\n			\n	\n\n\nHow would you like to get involved? (Check all that apply)\n	\n		Select an option\n		I’d like to join an ACLA Committee\n		Sign me up for our bi-weekly newsletter\n		I’d like to be an outward facing volunteer at community events\n		I’d like to volunteer my expertise at educational workshops\n		I’m an emerging designer and want to learn more\n	\n\n\n			\n				\n					\n						\n						\n						\n					\n				\n				\n				\n	\n\n				\n					\n				\n						Submit
URL:https://ac-la.org/event/join-cec/
END:VEVENT
BEGIN:VEVENT
DTSTART;TZID=UTC:20250806T180000
DTEND;TZID=UTC:20250806T190000
DTSTAMP:20260422T200541
CREATED:20250324T191357Z
LAST-MODIFIED:20250324T191357Z
UID:5557-1754503200-1754506800@ac-la.org
SUMMARY:K-12 Monthly Committee Meeting
DESCRIPTION:Join us to learn more about our Committee. \nRequest the access link by emailing andrea@acl-la.org.
URL:https://ac-la.org/event/k-12-monthly-committee-meeting-13/
END:VEVENT
BEGIN:VEVENT
DTSTART;TZID=UTC:20250812T080000
DTEND;TZID=UTC:20250812T170000
DTSTAMP:20260422T200541
CREATED:20250324T194723Z
LAST-MODIFIED:20250324T194723Z
UID:5595-1754985600-1755018000@ac-la.org
SUMMARY:Community Engagement Monthly Committee Meeting
DESCRIPTION:Join us to learn more about our Committee. \nRequest the access link by emailing andrea@acl-la.org.
URL:https://ac-la.org/event/community-engagement-monthly-committee-meeting-10/
END:VEVENT
BEGIN:VEVENT
DTSTART;TZID=UTC:20250820T173000
DTEND;TZID=UTC:20250820T193000
DTSTAMP:20260422T200541
CREATED:20250324T193023Z
LAST-MODIFIED:20250324T193035Z
UID:5572-1755711000-1755718200@ac-la.org
SUMMARY:ACLA Monthly Board Meeting
DESCRIPTION:Join us to learn more about ACLA. \nRequest the access link by emailing andrea@acl-la.org.
URL:https://ac-la.org/event/acla-monthly-board-meeting-copy-2/
END:VEVENT
END:VCALENDAR