BEGIN:VCALENDAR
VERSION:2.0
PRODID:-//ACLA - ECPv6.15.18//NONSGML v1.0//EN
CALSCALE:GREGORIAN
METHOD:PUBLISH
X-WR-CALNAME:ACLA
X-ORIGINAL-URL:https://ac-la.org
X-WR-CALDESC:Events for ACLA
REFRESH-INTERVAL;VALUE=DURATION:PT1H
X-Robots-Tag:noindex
X-PUBLISHED-TTL:PT1H
BEGIN:VTIMEZONE
TZID:UTC
BEGIN:STANDARD
TZOFFSETFROM:+0000
TZOFFSETTO:+0000
TZNAME:UTC
DTSTART:20240101T000000
END:STANDARD
END:VTIMEZONE
BEGIN:VEVENT
DTSTART;TZID=UTC:20250101T090000
DTEND;TZID=UTC:20251231T170000
DTSTAMP:20260422T165235
CREATED:20250902T164430Z
LAST-MODIFIED:20250902T232813Z
UID:7708-1735722000-1767200400@ac-la.org
SUMMARY:Join CEC
DESCRIPTION:← Back Thank you for your response. ✨\n\n\n					\n						\n							\n							\n						\n						\n						\n						\n						\n							\n								\n									\n										\n										\n									\n									\n										\n										\n									\n								\n							\n						\n						\n							\n								\n									\n									\n										\n									\n									\n									\n								\n							\n						\n					\n				\n\n\n\nName(required)\n\n \n			\n				\n					\n						\n						\n						\n					\n				\n				\n			 \n	\n\n\nEmail(required)\n\n \n			\n				\n					\n						\n						\n						\n					\n				\n				\n			 \n	\n\n\nPhone\n\n \n			\n				\n					\n						\n						\n						\n					\n				\n				\n			 \n	\n\n\nAffiliation (name of firm\, school or organization)\n\n \n			\n				\n					\n						\n						\n						\n					\n				\n				\n			\n	\n\n\nHow would you like to get involved? (Check all that apply)\n	\n		Select an option\n		I’d like to join an ACLA Committee\n		Sign me up for our bi-weekly newsletter\n		I’d like to be an outward facing volunteer at community events\n		I’d like to volunteer my expertise at educational workshops\n		I’m an emerging designer and want to learn more\n	\n\n\n			\n				\n					\n						\n						\n						\n					\n				\n				\n				\n	\n\n				\n					\n				\n						Submit
URL:https://ac-la.org/event/join-cec/
END:VEVENT
BEGIN:VEVENT
DTSTART;TZID=UTC:20251001T180000
DTEND;TZID=UTC:20251001T190000
DTSTAMP:20260422T165235
CREATED:20250324T191540Z
LAST-MODIFIED:20250324T191540Z
UID:5561-1759341600-1759345200@ac-la.org
SUMMARY:K-12 Monthly Committee Meeting
DESCRIPTION:Join us to learn more about our Committee. \nRequest the access link by emailing andrea@acl-la.org.
URL:https://ac-la.org/event/k-12-monthly-committee-meeting-15/
END:VEVENT
BEGIN:VEVENT
DTSTART;TZID=UTC:20251011T090000
DTEND;TZID=UTC:20251011T153000
DTSTAMP:20260422T165235
CREATED:20250528T164615Z
LAST-MODIFIED:20250528T164615Z
UID:6310-1760173200-1760196600@ac-la.org
SUMMARY:Transform LA
DESCRIPTION:Transform LA invites high school students in grades 10-12 to join us for an exciting day of exploring sustainable architecture and environmental justice. Discover how architects are leading the way in solving climate challenges and how YOU can be part of that change.\nThis hands-on program offers a unique opportunity to dive into the world of eco-friendly design. You’ll work in small teams\, using real design tools to create models and tackle real-world sustainability challenges.\nSpace is limited to 20-30 participants\, so don’t miss out on this chance to collaborate with other passionate students and develop skills that can shape the future of our planet!
URL:https://ac-la.org/event/transform-la-2/
LOCATION:AIA|LA & ACLA Center for Communitites\, 4450 West Adams Blvd\, Los Angeles\, CA\, 90016\, United States
ATTACH;FMTTYPE=image/png:https://ac-la.org/wp-content/uploads/2024/12/Transform-LA-594-x-594-px-1.png
ORGANIZER;CN="K-12 Committee":MAILTO:andrea@ac-la.org
END:VEVENT
BEGIN:VEVENT
DTSTART;TZID=UTC:20251014T080000
DTEND;TZID=UTC:20251014T170000
DTSTAMP:20260422T165235
CREATED:20250324T194911Z
LAST-MODIFIED:20250324T194911Z
UID:5599-1760428800-1760461200@ac-la.org
SUMMARY:Community Engagement Monthly Committee Meeting
DESCRIPTION:Join us to learn more about our Committee. \nRequest the access link by emailing andrea@acl-la.org.
URL:https://ac-la.org/event/community-engagement-monthly-committee-meeting-12/
END:VEVENT
BEGIN:VEVENT
DTSTART;TZID=UTC:20251015T173000
DTEND;TZID=UTC:20251015T193000
DTSTAMP:20260422T165235
CREATED:20250324T193839Z
LAST-MODIFIED:20250324T193839Z
UID:5581-1760549400-1760556600@ac-la.org
SUMMARY:ACLA Monthly Board Meeting
DESCRIPTION:Join us to learn more about ACLA. \nRequest the access link by emailing andrea@acl-la.org.
URL:https://ac-la.org/event/acla-monthly-board-meeting-15/
END:VEVENT
END:VCALENDAR